BEGIN:VCALENDAR
VERSION:2.0
PRODID:-//Squarespace Inc/Squarespace 6//v6//EN
BEGIN:VEVENT
UID:57e35cad1b631b0b3b3295cb@squarespace.com
DTSTAMP:20161102T003614Z
DTSTART:20161123T043000Z
DTEND:20161123T080000Z
SUMMARY:BIM.well - November Event
GEO:-41.28646;174.776236
LOCATION:Wellington
END:VEVENT
END:VCALENDAR
