BEGIN:VCALENDAR
VERSION:2.0
PRODID:-//Squarespace Inc/Squarespace 6//v6//EN
BEGIN:VEVENT
UID:577df8639f74568b965c55b5@squarespace.com
DTSTAMP:20160815T083850Z
DTSTART:20160822T203000Z
DTEND:20160823T113000Z
SUMMARY:BIM 101 - Half day Workshop
GEO:-37.687797;176.16513
LOCATION:Tauranga\, Trinity Wharf\, 51 Drive Crescent\, Tauranga
END:VEVENT
END:VCALENDAR
