BEGIN:VCALENDAR
VERSION:2.0
PRODID:-//Squarespace Inc/Squarespace 6//v6//EN
BEGIN:VEVENT
UID:577df093ebbd1ac2b78c8969@squarespace.com
DTSTAMP:20160815T083752Z
DTSTART:20160822T020000Z
DTEND:20160822T050000Z
SUMMARY:BIM 101 - Half day Workshop
GEO:-36.888609;174.800073
LOCATION:Auckland\, Ellerslie Event Centre\, 80 Ascot Avenue\, Remuera
END:VEVENT
END:VCALENDAR
