BEGIN:VCALENDAR
VERSION:2.0
PRODID:-//Squarespace Inc/Squarespace 6//v6//EN
BEGIN:VEVENT
UID:577df979725e25fb8efc5f37@squarespace.com
DTSTAMP:20160816T072205Z
DTSTART:20160825T053000Z
DTEND:20160825T080000Z
SUMMARY:BIM AK - August Event
GEO:-36.850742;174.752824
LOCATION:GHD\, Level 3\, GHD Centre\, 27 Napier Street\, Freemans Bay\, Auc
 kland
END:VEVENT
END:VCALENDAR
