BEGIN:VCALENDAR
VERSION:2.0
PRODID:-//Squarespace Inc/Squarespace 6//v6//EN
BEGIN:VEVENT
UID:57ad4696cd0f687fdc6092e6@squarespace.com
DTSTAMP:20160815T084600Z
DTSTART:20160830T020000Z
DTEND:20160830T050000Z
SUMMARY:BIM 101 - Half day Workshop
GEO:33.633972;-112.249923
LOCATION:Dunedin\, Kingsgate Hotel\, Dunedin Central
END:VEVENT
END:VCALENDAR
