BEGIN:VCALENDAR
VERSION:2.0
PRODID:-//Squarespace Inc/Squarespace 6//v6//EN
BEGIN:VEVENT
UID:57ad38028419c2242c464d3d@squarespace.com
DTSTAMP:20160815T084332Z
DTSTART:20160824T020000Z
DTEND:20160824T050000Z
SUMMARY:BIM 101 - Half day Workshop
GEO:-41.28646;174.776236
LOCATION:Wellington\, Mac's Function Centre\, 4 Taranaki Street Wharf\, Cnr 
 Cable and Taranaki Street
END:VEVENT
END:VCALENDAR
