BEGIN:VCALENDAR
VERSION:2.0
PRODID:-//Squarespace Inc/Squarespace 6//v6//EN
BEGIN:VEVENT
UID:57b19073414fb58fb6ca7c9c@squarespace.com
DTSTAMP:20160927T080139Z
DTSTART:20161124T043000Z
DTEND:20161124T070000Z
SUMMARY:BIM AK - November Event
GEO:-36.850742;174.752824
LOCATION:Auckland\, GHD\, Level 3\, GHD Centre\, 27 Napier Street\, Freeman
 s Bay\, Auckland
END:VEVENT
END:VCALENDAR
