BEGIN:VCALENDAR
VERSION:2.0
PRODID:-//Squarespace Inc/Squarespace 6//v6//EN
BEGIN:VEVENT
UID:573a80059f72664e35fedc61@squarespace.com
DTSTAMP:20160816T092946Z
DTSTART:20160821T203000Z
DTEND:20160821T233000Z
SUMMARY:BIM 101 - Half day Workshop
GEO:-36.888609;174.800073
LOCATION:Auckland\, Ellerslie Event Centre\, 80 Ascot Avenue\, Remuera
END:VEVENT
END:VCALENDAR
