BEGIN:VCALENDAR
VERSION:2.0
PRODID:-//Squarespace Inc/Squarespace 6//v6//EN
BEGIN:VEVENT
UID:57ad4c048419c2d09bc10e9a@squarespace.com
DTSTAMP:20160815T084444Z
DTSTART:20160829T020000Z
DTEND:20160829T050000Z
SUMMARY:BIM 101 - Half day Workshop
GEO:-45.031162;168.662644
LOCATION:Queenstown\, Queenstown Events Centre\, Joe O'connell Drive\, Fran
 kton
END:VEVENT
END:VCALENDAR
