BEGIN:VCALENDAR
VERSION:2.0
PRODID:-//Squarespace Inc/Squarespace 6//v6//EN
BEGIN:VEVENT
UID:57a7fe86414fb58fa3ed9630@squarespace.com
DTSTAMP:20160815T084134Z
DTSTART:20160823T203000Z
DTEND:20160823T233000Z
SUMMARY:BIM 101 - Half day Workshop
GEO:38.59952;-90.315434
LOCATION:Wellington\, Mac's Function Centre\, 4 Taranaki Street Wharf\, Cnr 
 Cable and Taranaki Street
END:VEVENT
END:VCALENDAR
