BEGIN:VCALENDAR
VERSION:2.0
PRODID:-//Squarespace Inc/Squarespace 6//v6//EN
BEGIN:VEVENT
UID:57ad511ee6f2e12b926d39c2@squarespace.com
DTSTAMP:20160815T093436Z
DTSTART:20160901T020000Z
DTEND:20160901T050000Z
SUMMARY:BIM 101 - Half day Workshop
GEO:-43.532054;172.636225
LOCATION:Christchurch\, Rydges Latimer\, 30 Latimer Square\, Christchurch C
 entral
END:VEVENT
END:VCALENDAR
