BEGIN:VCALENDAR
VERSION:2.0
PRODID:-//Squarespace Inc/Squarespace 6//v6//EN
BEGIN:VEVENT
UID:57ad4f95ff7c50d12ce63969@squarespace.com
DTSTAMP:20160815T093534Z
DTSTART:20160831T203000Z
DTEND:20160831T233000Z
SUMMARY:BIM 101 - Half day Workshop
GEO:-43.530745;172.643559
LOCATION:Christchurch\, Rydges Latimer\, 30 Latimer Square\, Christchurch C
 entral
END:VEVENT
END:VCALENDAR
