BEGIN:VCALENDAR
VERSION:2.0
PRODID:-//Squarespace Inc/Squarespace 6//v6//EN
BEGIN:VEVENT
UID:57e3598dd2b8570ffef77d7d@squarespace.com
DTSTAMP:20161010T012543Z
DTSTART:20161122T043000Z
DTEND:20161122T063000Z
SUMMARY:BIMsiNZ - November Event
GEO:-43.532054;172.636225
LOCATION:Ara Institute of Christchurch\, DLECT D Block Lecture Theatre\, 13
 0 Madras Street\, Christchurch
END:VEVENT
END:VCALENDAR
