BEGIN:VCALENDAR
VERSION:2.0
PRODID:-//Squarespace Inc/Squarespace 6//v6//EN
BEGIN:VEVENT
UID:57cddcc729687fcc42c3e414@squarespace.com
DTSTAMP:20160922T043403Z
DTSTART:20161012T043000Z
DTEND:20161012T063000Z
SUMMARY:BIMsiNZ - October Event
GEO:39.765299;-77.058078
LOCATION:Christchurch\, Ara Institute of Christchurch\, D Block Lecture The
 atre\, 130 Madras Street\, Christchurch Central
END:VEVENT
END:VCALENDAR
