BEGIN:VCALENDAR
VERSION:2.0
PRODID:-//Squarespace Inc/Squarespace 6//v6//EN
BEGIN:VEVENT
UID:58e6b290b3db2b24ed58bcd4@squarespace.com
DTSTAMP:20170815T091630Z
DTSTART:20170913T053000Z
DTEND:20170913T073000Z
SUMMARY:BIMsiNZ - September Event
GEO:-43.525108;172.642626
LOCATION:Kahakura Building\, Ara Institute of Canterbury\, Madras Street\, 
 Christchurch\, Canterbury\, New Zealand
END:VEVENT
END:VCALENDAR
