BEGIN:VCALENDAR
VERSION:2.0
PRODID:-//Squarespace Inc/Squarespace 6//v6//EN
BEGIN:VEVENT
UID:58e6b0d359cc68786f74004e@squarespace.com
DTSTAMP:20170406T215601Z
DTSTART:20171122T043000Z
DTEND:20171122T070000Z
SUMMARY:BIM.well - November Event
GEO:-41.28646;174.776236
LOCATION:Wellington
END:VEVENT
END:VCALENDAR
