BEGIN:VCALENDAR
VERSION:2.0
PRODID:-//Squarespace Inc/Squarespace 6//v6//EN
BEGIN:VEVENT
UID:5a73dd8b08522935752e1c58@squarespace.com
DTSTAMP:20180202T040457Z
DTSTART:20180227T043000Z
DTEND:20180227T063000Z
SUMMARY:BIMsiNZ - February Event - Project Establishment
GEO:-43.53793;172.643468
LOCATION:Christchurch\, Ara Institute of Canterbury\, K115\, Kahukura Block
 \, Madras Street\, Christchurch
END:VEVENT
END:VCALENDAR
