BEGIN:VCALENDAR
VERSION:2.0
PRODID:-//Squarespace Inc/Squarespace 6//v6//EN
BEGIN:VEVENT
UID:59f26a72652deaab951f9a26@squarespace.com
DTSTAMP:20180202T033955Z
DTSTART:20171121T043000Z
DTEND:20171121T070000Z
SUMMARY:BIMsiNZ - November Event
GEO:-43.53793;172.643468
LOCATION:Christchurch\, Ara Institute of Canterbury\, W Block\, Madras Stre
 et\, Christchurch
END:VEVENT
END:VCALENDAR
