BEGIN:VCALENDAR
VERSION:2.0
PRODID:-//Squarespace Inc/Squarespace 6//v6//EN
BEGIN:VEVENT
UID:58e6ae9b893fc00ef8e3b18a@squarespace.com
DTSTAMP:20171026T231147Z
DTSTART:20171123T043000Z
DTEND:20171123T070000Z
SUMMARY:BIM AK - November Event
GEO:-36.850532;174.752954
LOCATION:Auckland\, GHD\, Level 3\, GHD Centre\, 27 Napier Street\, Aucklan
 d
END:VEVENT
END:VCALENDAR
