BEGIN:VCALENDAR
VERSION:2.0
PRODID:-//Squarespace Inc/Squarespace 6//v6//EN
BEGIN:VEVENT
UID:58a3bbeb893fc0afa28b575f@squarespace.com
DTSTAMP:20170215T031441Z
DTSTART:20170221T043000Z
DTEND:20170221T063000Z
SUMMARY:BIMsiNZ - February Event
GEO:40.720756;-74.000761
LOCATION:Ara Institute of Christchurch\, D Block Lecture Theatre\, 130 Madr
 as Street\, Christchurch
END:VEVENT
END:VCALENDAR
