BEGIN:VCALENDAR
VERSION:2.0
PRODID:-//Squarespace Inc/Squarespace 6//v6//EN
BEGIN:VEVENT
UID:588faa30b3db2bd96dfbdae1@squarespace.com
DTSTAMP:20170215T070339Z
DTSTART:20170223T043000Z
DTEND:20170223T070000Z
SUMMARY:BIM AK - February Event
GEO:-36.854065;174.779879
LOCATION:Auckland\, Jasmax\, 2 Marston Street\, Parnell\, Auckland
END:VEVENT
END:VCALENDAR
