BEGIN:VCALENDAR
VERSION:2.0
PRODID:-//Squarespace Inc/Squarespace 6//v6//EN
BEGIN:VEVENT
UID:58a3c7d4cd0f68dbeeec6c83@squarespace.com
DTSTAMP:20170215T035055Z
DTSTART:20170222T050000Z
DTEND:20170222T073000Z
SUMMARY:BIM.well - February Event
GEO:-41.282503;174.776428
LOCATION:RCP Level 4\, 40 Johnston Street\, Wellington
END:VEVENT
END:VCALENDAR
