BEGIN:VCALENDAR
VERSION:2.0
PRODID:-//Squarespace Inc/Squarespace 6//v6//EN
BEGIN:VEVENT
UID:58bde48cd2b85732538f0551@squarespace.com
DTSTAMP:20170306T225719Z
DTSTART:20170320T043000Z
DTEND:20170320T063000Z
SUMMARY:BIMsiNZ - March Event
GEO:-43.53324;172.630989
LOCATION:Christchurch\, Warren & Mahoney Architects\, 254 Montreal Street\, 
 Christchurch\, Canterbury\, 8013
END:VEVENT
END:VCALENDAR
