BEGIN:VCALENDAR
VERSION:2.0
PRODID:-//Squarespace Inc/Squarespace 6//v6//EN
BEGIN:VEVENT
UID:58e6af62f7e0ab7b6dfca176@squarespace.com
DTSTAMP:20170425T083408Z
DTSTART:20170628T053000Z
DTEND:20170628T080000Z
SUMMARY:BIM.well - June Event
GEO:-41.28646;174.776236
LOCATION:Wellington
END:VEVENT
END:VCALENDAR
