BEGIN:VCALENDAR
VERSION:2.0
PRODID:-//Squarespace Inc/Squarespace 6//v6//EN
BEGIN:VEVENT
UID:58e6ac231b10e38c7e87d938@squarespace.com
DTSTAMP:20170502T090525Z
DTSTART:20170518T053000Z
DTEND:20170518T080000Z
SUMMARY:BIM AK - May Event
GEO:-36.850466;174.753095
LOCATION:Auckland\, GHD\, Level 3\, GHD Centre\, Freemans Bay
END:VEVENT
END:VCALENDAR
