BEGIN:VCALENDAR
VERSION:2.0
PRODID:-//Squarespace Inc/Squarespace 6//v6//EN
BEGIN:VEVENT
UID:58e6b180725e25abcc2e1c96@squarespace.com
DTSTAMP:20170606T085556Z
DTSTART:20170614T053000Z
DTEND:20170614T073000Z
SUMMARY:BIMsiNZ - June Event
GEO:-43.53324;172.630989
LOCATION:Christchurch\, Warren & Mahoney Architects\, 254 Montreal Street
END:VEVENT
END:VCALENDAR
