BEGIN:VCALENDAR
VERSION:2.0
PRODID:-//Squarespace Inc/Squarespace 6//v6//EN
BEGIN:VEVENT
UID:58e6b0391b631be056ba3e58@squarespace.com
DTSTAMP:20170406T214836Z
DTSTART:20170822T053000Z
DTEND:20170822T080000Z
SUMMARY:BIM.well - August Event
GEO:-41.28646;174.776236
LOCATION:Wellington
END:VEVENT
END:VCALENDAR
