BEGIN:VCALENDAR
VERSION:2.0
PRODID:-//Squarespace Inc/Squarespace 6//v6//EN
BEGIN:VEVENT
UID:58e6adfc3a04115cd242ac9b@squarespace.com
DTSTAMP:20171021T015418Z
DTSTART:20170824T053000Z
DTEND:20170824T080000Z
SUMMARY:BIM AK - August Event
GEO:-36.850466;174.753095
LOCATION:Auckland\, GHD\, Level 3\, GHD Centre\, 27 Napier Street\, Freeman
 s Bay
END:VEVENT
END:VCALENDAR
