BEGIN:VCALENDAR
VERSION:2.0
PRODID:-//Squarespace Inc/Squarespace 6//v6//EN
BEGIN:VEVENT
UID:58e6b2241b631be056bb009f@squarespace.com
DTSTAMP:20170406T214956Z
DTSTART:20170809T053000Z
DTEND:20170809T073000Z
SUMMARY:BIMsiNZ - August Event
GEO:-43.532054;172.636225
LOCATION:Christchurch
END:VEVENT
END:VCALENDAR
