BEGIN:VCALENDAR
VERSION:2.0
PRODID:-//Squarespace Inc/Squarespace 6//v6//EN
BEGIN:VEVENT
UID:5bc514abec212d7bfef50f36@squarespace.com
DTSTAMP:20181105T015423Z
DTSTART:20181121T200000Z
DTEND:20181123T040000Z
SUMMARY:CONVR 2018
GEO:-36.853477;174.76845
LOCATION:Auckland University\, Science Centre\, Auckland\, New Zealand
END:VEVENT
END:VCALENDAR
