BEGIN:VCALENDAR
VERSION:2.0
PRODID:-//Squarespace Inc/Squarespace 6//v6//EN
BEGIN:VEVENT
UID:5aaf26e6758d463a225c86dc@squarespace.com
DTSTAMP:20181114T053629Z
DTSTART:20181128T043000Z
DTEND:20181128T063000Z
SUMMARY:BIM.well - Wellington BIM Network - Nov 2018 Event
GEO:-41.295548;174.775604
LOCATION:VUW SOAD\, Atrium\, 139 Vivian Street\, Wellington
END:VEVENT
END:VCALENDAR
