BEGIN:VCALENDAR
VERSION:2.0
PRODID:-//Squarespace Inc/Squarespace 6//v6//EN
BEGIN:VEVENT
UID:5aaf261270a6adbf54ddf0bb@squarespace.com
DTSTAMP:20180802T094002Z
DTSTART:20180822T053000Z
DTEND:20180822T073000Z
SUMMARY:BIM.well - Aug 2018 Event
GEO:-41.295548;174.775604
LOCATION:VUW SOAD\, Lecture Theatre 1\,  139 Vivian Street\, Wellington
END:VEVENT
END:VCALENDAR
