BEGIN:VCALENDAR
VERSION:2.0
PRODID:-//Squarespace Inc/Squarespace 6//v6//EN
BEGIN:VEVENT
UID:5aaf24c6aa4a99e021aa8b24@squarespace.com
DTSTAMP:20180504T033507Z
DTSTART:20180516T053000Z
DTEND:20180516T073000Z
SUMMARY:BIM.well - May 2018 Event
GEO:-41.295548;174.775604
LOCATION:Wellington\, VUW SOAD\, Lecture Theatre 1\, 139 Vivian Street\, We
 llington
END:VEVENT
END:VCALENDAR
