BEGIN:VCALENDAR
VERSION:2.0
PRODID:-//Squarespace Inc/Squarespace 6//v6//EN
BEGIN:VEVENT
UID:5a73e8a7f9619aaffdd1c8d6@squarespace.com
DTSTAMP:20181114T053901Z
DTSTART:20181127T053000Z
DTEND:20181127T063000Z
SUMMARY:BIMsiNZ - South Island BIM Network - Nov 2018 Event
GEO:-43.525113;172.642626
LOCATION:Ara Institute of Canterbury\, K115 Kahukura Block\,\, Madras Stree
 t\, Christchurch
END:VEVENT
END:VCALENDAR
