BEGIN:VCALENDAR
VERSION:2.0
PRODID:-//Squarespace Inc/Squarespace 6//v6//EN
BEGIN:VEVENT
UID:5a73e7abf9619aaffdd19323@squarespace.com
DTSTAMP:20180726T065911Z
DTSTART:20180821T060000Z
DTEND:20180821T073000Z
SUMMARY:BIMsiNZ - Aug 2018 Event
GEO:-43.53793;172.643468
LOCATION:Christchurch\, Ara Institute of Canterbury\, K115 Kahukura Block\, 
 Madras Street\, Christchurch
END:VEVENT
END:VCALENDAR
