BEGIN:VCALENDAR
VERSION:2.0
PRODID:-//Squarespace Inc/Squarespace 6//v6//EN
BEGIN:VEVENT
UID:5a20750524a694eb0d09a680@squarespace.com
DTSTAMP:20181114T053754Z
DTSTART:20181129T043000Z
DTEND:20181129T073000Z
SUMMARY:BIM AK - Auckland BIM Network - Nov 2018 Event
GEO:-36.850458;174.753136
LOCATION:GHD\, Level 3\, GHD Centre\, 27 Napier Street\, Freemans Bay\, Auc
 kland
END:VEVENT
END:VCALENDAR
