BEGIN:VCALENDAR
VERSION:2.0
PRODID:-//Squarespace Inc/Squarespace 6//v6//EN
BEGIN:VEVENT
UID:5a20748f652deaf7d7aa188c@squarespace.com
DTSTAMP:20171130T211537Z
DTSTART:20180823T053000Z
DTEND:20180823T080000Z
SUMMARY:BIM AK - Aug 2018 Event
GEO:-36.84846;174.763332
LOCATION:Auckland
END:VEVENT
END:VCALENDAR
