BEGIN:VCALENDAR
VERSION:2.0
PRODID:-//Squarespace Inc/Squarespace 6//v6//EN
BEGIN:VEVENT
UID:5a2073e4e2c483d7912bda42@squarespace.com
DTSTAMP:20180503T060751Z
DTSTART:20180517T053000Z
DTEND:20180517T080000Z
SUMMARY:BIM AK - May 2018 Event
GEO:-36.850532;174.752954
LOCATION:Auckland\, GHD\, Level 3\, GHD Centre\, 27 Napier Street\, Aucklan
 d
END:VEVENT
END:VCALENDAR
