BEGIN:VCALENDAR
VERSION:2.0
PRODID:-//Squarespace Inc/Squarespace 6//v6//EN
BEGIN:VEVENT
UID:5a20721753450a77d2e4fe97@squarespace.com
DTSTAMP:20171130T211100Z
DTSTART:20180301T043000Z
DTEND:20180301T070000Z
SUMMARY:BIM AK - March 2018 Event
GEO:-36.84846;174.763332
LOCATION:Auckland
END:VEVENT
END:VCALENDAR
