BEGIN:VCALENDAR
VERSION:2.0
PRODID:-//Squarespace Inc/Squarespace 6//v6//EN
BEGIN:VEVENT
UID:5a73e54de2c483a459386a44@squarespace.com
DTSTAMP:20180504T035019Z
DTSTART:20180515T053000Z
DTEND:20180515T073000Z
SUMMARY:BIMsiNZ - May 2018 Event
GEO:-43.53793;172.643468
LOCATION:Christchurch\, Ara Institute of Canterbury\, K115\, Kahukura Block
 \, Madras Street\, Christchurch
END:VEVENT
END:VCALENDAR
