BEGIN:VCALENDAR
VERSION:2.0
PRODID:-//Squarespace Inc/Squarespace 6//v6//EN
BEGIN:VEVENT
UID:5c18d55daa4a99481a1975a6@squarespace.com
DTSTAMP:20181218T194037Z
DTSTART:20190219T193000Z
DTEND:20190221T043000Z
SUMMARY:BIM 201 - Virtual Project Workshop
GEO:-36.88074;174.707801
LOCATION:Unitec Institute of Technology\, Building 112\, Room number 1100\, 
 139 Carrington Road\, Mount Albert\, Auckland
END:VEVENT
END:VCALENDAR
